BEGIN:VCALENDAR
VERSION:2.0
PRODID:-//Youth Community Support Agency - ECPv6.15.20//NONSGML v1.0//EN
CALSCALE:GREGORIAN
METHOD:PUBLISH
X-ORIGINAL-URL:https://ycsa.org.uk
X-WR-CALDESC:Events for Youth Community Support Agency
REFRESH-INTERVAL;VALUE=DURATION:PT1H
X-Robots-Tag:noindex
X-PUBLISHED-TTL:PT1H
BEGIN:VTIMEZONE
TZID:UTC
BEGIN:STANDARD
TZOFFSETFROM:+0000
TZOFFSETTO:+0000
TZNAME:UTC
DTSTART:20240101T000000
END:STANDARD
END:VTIMEZONE
BEGIN:VEVENT
DTSTART;TZID=UTC:20250701T000000
DTEND;TZID=UTC:20260731T000000
DTSTAMP:20260423T182908
CREATED:20251219T182715Z
LAST-MODIFIED:20260219T073758Z
UID:32967-1751328000-1785456000@ycsa.org.uk
SUMMARY:Service Funding Update
DESCRIPTION:HSCP Funding Supports Art Psychotherapy for Young People- August 2025-July 2026 \nYCSA is pleased to confirm that Health and Social Care Partnership (HSCP) funding is supporting the delivery of art psychotherapy for young people. \nThis funding enables YCSA to provide a part-time art psychotherapist 10 hours per week for a year\, offering creative\, therapeutic support to young people who may be experiencing emotional distress or trauma. Art psychotherapy provides a valuable\, non-verbal way for young people to explore feelings in a safe and supportive environment. This funding provides young people within Bellahouston Academy and the community to Art Psychotherapy sessions. \nThis support strengthens YCSA’s trauma informed services and reflects the importance of partnership working in meeting young people’s mental health needs.
URL:https://ycsa.org.uk/event/service-funding-update/
CATEGORIES:Support
ATTACH;FMTTYPE=image/jpeg:https://ycsa.org.uk/wp-content/uploads/2025/12/art-psychotherapy-1.jpg
END:VEVENT
END:VCALENDAR